BEGIN:VCALENDAR
VERSION:2.0
PRODID:spatie/icalendar-generator
DESCRIPTION:Veranstaltungen von TC Kirrweiler e.V.
X-WR-CALDESC:Veranstaltungen von TC Kirrweiler e.V.
REFRESH-INTERVAL;VALUE=DURATION:PT1440M
X-PUBLISHED-TTL:PT1440M
BEGIN:VTIMEZONE
TZID:Etc/GMT-2
BEGIN:STANDARD
DTSTART:20250730T123000Z
TZOFFSETFROM:+0200
TZOFFSETTO:+0200
END:STANDARD
END:VTIMEZONE
BEGIN:VTIMEZONE
TZID:UTC
BEGIN:STANDARD
DTSTART:20250730T024943Z
TZOFFSETFROM:+0000
TZOFFSETTO:+0000
END:STANDARD
END:VTIMEZONE
BEGIN:VEVENT
UID:152-126
DTSTAMP:20260426T024943Z
SUMMARY:Mitgliederversammlung
LOCATION:Tennisclub Kirrweiler Im Unterried  Kirrweiler Rheinland-Pfalz 674
 89
ORGANIZER;CN=Angelika Platz:MAILTO:angelika.platz-tckirrweiler@web.de
DTSTART;TZID=Etc/GMT-2:20260426T123000
DTEND;TZID=Etc/GMT-2:20260426T133000
X-ALT-DESC;FMTTYPE=TEXT/HTML:
CATEGORIES:Vereins-Event
URL;VALUE=URI:https://tennisclub-kirrweiler.de/mc-events/mitgliederversamml
 ung/
METHOD:PUBLISH
END:VEVENT
END:VCALENDAR