BEGIN:VCALENDAR
VERSION:2.0
PRODID:spatie/icalendar-generator
DESCRIPTION:Veranstaltungen von TC Kirrweiler e.V.
X-WR-CALDESC:Veranstaltungen von TC Kirrweiler e.V.
REFRESH-INTERVAL;VALUE=DURATION:PT1440M
X-PUBLISHED-TTL:PT1440M
BEGIN:VTIMEZONE
TZID:Etc/GMT-2
BEGIN:STANDARD
DTSTART:20240930T153000Z
TZOFFSETFROM:+0200
TZOFFSETTO:+0200
END:STANDARD
END:VTIMEZONE
BEGIN:VTIMEZONE
TZID:UTC
BEGIN:STANDARD
DTSTART:20250724T083302Z
TZOFFSETFROM:+0000
TZOFFSETTO:+0000
END:STANDARD
END:VTIMEZONE
BEGIN:VEVENT
UID:127-113
DTSTAMP:20260420T083302Z
SUMMARY:Heimspiel Jungen U15 gegen TC Friedelsheim
LOCATION:Tennisclub Kirrweiler Im Unterried  Kirrweiler Rheinland-Pfalz 674
 89
ORGANIZER;CN=admin:MAILTO:a.diehm@cccolorconception.de
DTSTART;TZID=Etc/GMT-2:20250627T153000
DTEND;TZID=Etc/GMT-2:20250627T200000
X-ALT-DESC;FMTTYPE=TEXT/HTML:
CATEGORIES:Medenrunde
URL;VALUE=URI:https://tennisclub-kirrweiler.de/mc-events/heimspiel-jungen-u
 15-gegen-tc-friedelsheim/
METHOD:PUBLISH
END:VEVENT
END:VCALENDAR