BEGIN:VCALENDAR
VERSION:2.0
PRODID:spatie/icalendar-generator
DESCRIPTION:Veranstaltungen von TC Kirrweiler e.V.
X-WR-CALDESC:Veranstaltungen von TC Kirrweiler e.V.
REFRESH-INTERVAL;VALUE=DURATION:PT1440M
X-PUBLISHED-TTL:PT1440M
BEGIN:VTIMEZONE
TZID:Etc/GMT-2
BEGIN:STANDARD
DTSTART:20250812T133000Z
TZOFFSETFROM:+0200
TZOFFSETTO:+0200
END:STANDARD
END:VTIMEZONE
BEGIN:VTIMEZONE
TZID:UTC
BEGIN:STANDARD
DTSTART:20250730T025903Z
TZOFFSETFROM:+0000
TZOFFSETTO:+0000
END:STANDARD
END:VTIMEZONE
BEGIN:VEVENT
UID:164-129
DTSTAMP:20260426T025903Z
SUMMARY:Herren 50 1 vs. Tennisclub Nieder-Olm e.V. 1 (Dienst vorhanden)
LOCATION:Tennisclub Kirrweiler Im Unterried  Kirrweiler Rheinland-Pfalz 674
 89
ORGANIZER;CN=admin:MAILTO:a.diehm@cccolorconception.de
DTSTART;TZID=Etc/GMT-2:20260509T133000
DTEND;TZID=Etc/GMT-2:20260509T210000
X-ALT-DESC;FMTTYPE=TEXT/HTML:Verbandsliga Herren 50 1 vs. Tennisclub Nieder
 -Olm e.V. 1 Dienst: Heidi Baumann / Sandra Utech
CATEGORIES:Medenrunde
URL;VALUE=URI:https://tennisclub-kirrweiler.de/mc-events/herren-50-1-vs-ten
 nisclub-nieder-olm-e-v-1-dienst-vorhanden/
METHOD:PUBLISH
END:VEVENT
END:VCALENDAR