BEGIN:VCALENDAR
VERSION:2.0
PRODID:spatie/icalendar-generator
DESCRIPTION:Veranstaltungen von TC Kirrweiler e.V.
X-WR-CALDESC:Veranstaltungen von TC Kirrweiler e.V.
REFRESH-INTERVAL;VALUE=DURATION:PT1440M
X-PUBLISHED-TTL:PT1440M
BEGIN:VTIMEZONE
TZID:Etc/GMT-2
BEGIN:STANDARD
DTSTART:20250813T100000Z
TZOFFSETFROM:+0200
TZOFFSETTO:+0200
END:STANDARD
END:VTIMEZONE
BEGIN:VTIMEZONE
TZID:UTC
BEGIN:STANDARD
DTSTART:20250730T025559Z
TZOFFSETFROM:+0000
TZOFFSETTO:+0000
END:STANDARD
END:VTIMEZONE
BEGIN:VEVENT
UID:165-130
DTSTAMP:20260426T025559Z
SUMMARY:Damen 30 1 (4er) vs. TV Grosslittgen 1
LOCATION:Tennisclub Kirrweiler Im Unterried  Kirrweiler Rheinland-Pfalz 674
 89
ORGANIZER;CN=admin:MAILTO:a.diehm@cccolorconception.de
DTSTART;TZID=Etc/GMT-2:20260510T100000
DTEND;TZID=Etc/GMT-2:20260510T170000
X-ALT-DESC;FMTTYPE=TEXT/HTML:Verbandsliga Damen 30 1 (4er) vs. TV Grosslitt
 gen 1
CATEGORIES:Medenrunde
URL;VALUE=URI:https://tennisclub-kirrweiler.de/mc-events/damen-30-1-4er-vs-
 tv-grosslittgen-1/
METHOD:PUBLISH
END:VEVENT
END:VCALENDAR